BEGIN:VCALENDAR
VERSION:2.0
PRODID:-//Tukios.com/
BEGIN:VEVENT
UID:66ad750c-5570-42f0-821b-3ef066acda19@www.krillfuneralservice.com
DTSTAMP:20260422T230554Z
DTSTART:20260501T210000Z
DTEND:20260501T230000Z
SUMMARY:Visitation
DESCRIPTION:
URL:https://www.krillfuneralservice.com/obituaries/billy-bruce
LOCATION: 860 W Mulberry St  Bryan OH 43506
GEO:41.4777269;-84.563574
END:VEVENT
END:VCALENDAR