BEGIN:VCALENDAR
VERSION:2.0
PRODID:-//Tukios.com/
BEGIN:VEVENT
UID:31b394b0-fbfc-43b8-b2e0-fb1697980498@www.krillfuneralservice.com
DTSTAMP:20260422T231135Z
DTSTART:20260502T150000Z
DTEND:20260502T160000Z
SUMMARY:Funeral Service
DESCRIPTION:
URL:https://www.krillfuneralservice.com/obituaries/billy-bruce
LOCATION:Eastland Baptist Church 1229 E High St  Bryan OH 43506
GEO:41.4759078;-84.5316152
END:VEVENT
END:VCALENDAR