BEGIN:VCALENDAR
VERSION:2.0
PRODID:-//Tukios.com/
BEGIN:VEVENT
UID:ad030b21-cc8b-4d0d-a0d6-cc6a0163b87a@www.krillfuneralservice.com
DTSTAMP:20260421T235615Z
DTSTART:20260426T170000Z
DTEND:20260426T200000Z
SUMMARY:Visitation
DESCRIPTION:
URL:https://www.krillfuneralservice.com/obituaries/james-kunesh
LOCATION: 860 W Mulberry St  Bryan OH 43506
GEO:41.4777269;-84.563574
END:VEVENT
END:VCALENDAR