BEGIN:VCALENDAR
VERSION:2.0
PRODID:-//Tukios.com/
BEGIN:VEVENT
UID:11eebf55-8657-4829-a713-d3753a76a577@www.krillfuneralservice.com
DTSTAMP:20260421T235901Z
DTSTART:20260427T150000Z
DTEND:20260427T160000Z
SUMMARY:Mass
DESCRIPTION:
URL:https://www.krillfuneralservice.com/obituaries/james-kunesh
LOCATION:St. Isidore-Marysdale Parish 6324 Ohio 15  Defiance OH 43512
GEO:41.3506076;-84.4572201
END:VEVENT
END:VCALENDAR