BEGIN:VCALENDAR
VERSION:2.0
PRODID:-//Tukios.com/
BEGIN:VEVENT
UID:848582d7-292a-4f9b-859c-8c2e750a2f44@www.krillfuneralservice.com
DTSTAMP:20260420T202256Z
DTSTART:20260423T200000Z
DTEND:20260423T230000Z
SUMMARY:Visitation
DESCRIPTION:
URL:https://www.krillfuneralservice.com/obituaries/james-vandevoorde
LOCATION: 204 W Indiana St  Edon OH 43518
GEO:41.5566159;-84.7707127
END:VEVENT
END:VCALENDAR