BEGIN:VCALENDAR
VERSION:2.0
PRODID:-//Tukios.com/
BEGIN:VEVENT
UID:dfb07542-cf87-4521-9ce4-e1bc2ca82a20@www.krillfuneralservice.com
DTSTAMP:20260420T202520Z
DTSTART:20260424T150000Z
DTEND:20260424T160000Z
SUMMARY:Funeral Service
DESCRIPTION:
URL:https://www.krillfuneralservice.com/obituaries/james-vandevoorde
LOCATION: 101 Franklin St  Edon OH 43518
GEO:41.5552275;-84.7694098
END:VEVENT
END:VCALENDAR