BEGIN:VCALENDAR
VERSION:2.0
PRODID:-//Tukios.com/
BEGIN:VEVENT
UID:a06e069c-12d2-46ea-86da-65db8fa7519c@www.krillfuneralservice.com
DTSTAMP:20260422T231027Z
DTSTART:20260429T200000Z
DTEND:20260429T230000Z
SUMMARY:Visitation
DESCRIPTION:
URL:https://www.krillfuneralservice.com/obituaries/john-kellogg
LOCATION: 204 W Indiana St  Edon OH 43518
GEO:41.5566159;-84.7707127
END:VEVENT
END:VCALENDAR