BEGIN:VCALENDAR
VERSION:2.0
PRODID:-//Tukios.com/
BEGIN:VEVENT
UID:ec65766b-3132-421a-a53e-557617e1ea23@www.krillfuneralservice.com
DTSTAMP:20260422T230838Z
DTSTART:20260430T150000Z
DTEND:20260430T160000Z
SUMMARY:Funeral Service
DESCRIPTION:
URL:https://www.krillfuneralservice.com/obituaries/john-kellogg
LOCATION: 204 W Indiana St  Edon OH 43518
GEO:41.5566159;-84.7707127
END:VEVENT
END:VCALENDAR