BEGIN:VCALENDAR
VERSION:2.0
PRODID:-//Tukios.com/
BEGIN:VEVENT
UID:75ba7e02-3681-4118-a0b9-61375ec23972@www.krillfuneralservice.com
DTSTAMP:20260424T042137Z
DTSTART:20260427T190000Z
DTEND:20260427T230000Z
SUMMARY:Visitation
DESCRIPTION:
URL:https://www.krillfuneralservice.com/obituaries/richard-l-goebel
LOCATION:Krill Funeral Home 114 E Hull St  Edgerton OH 43517
GEO:41.4507343;-84.7470219
END:VEVENT
END:VCALENDAR