BEGIN:VCALENDAR
VERSION:2.0
PRODID:-//Tukios.com/
BEGIN:VEVENT
UID:f24a873e-a354-4b29-b192-dd5e9a1fedf9@www.krillfuneralservice.com
DTSTAMP:20260424T042048Z
DTSTART:20260428T143000Z
DTEND:20260428T153000Z
SUMMARY:Mass
DESCRIPTION:
URL:https://www.krillfuneralservice.com/obituaries/richard-l-goebel
LOCATION: 317 S Locust St  Edgerton OH 43517
GEO:41.4462693;-84.7484624
END:VEVENT
END:VCALENDAR